Package: scviR Version: 1.8.0 Command: /home/biocbuild/R/R/bin/R CMD INSTALL scviR StartedAt: 2025-10-13 21:14:29 -0000 (Mon, 13 Oct 2025) EndedAt: 2025-10-13 21:15:16 -0000 (Mon, 13 Oct 2025) EllapsedTime: 46.9 seconds RetCode: 0 Status: OK