Package: scviR Version: 1.8.0 Command: /home/biocbuild/R/R/bin/R CMD build --keep-empty-dirs --no-resave-data scviR StartedAt: 2025-10-14 04:36:34 -0000 (Tue, 14 Oct 2025) EndedAt: 2025-10-14 04:40:01 -0000 (Tue, 14 Oct 2025) EllapsedTime: 207.1 seconds RetCode: 1 Status: ERROR PackageFile: None PackageFileSize: NA