Package: scuttle Version: 1.18.0 Command: /home/biocbuild/R/R/bin/R CMD INSTALL scuttle StartedAt: 2025-10-13 20:35:41 -0000 (Mon, 13 Oct 2025) EndedAt: 2025-10-13 20:37:27 -0000 (Mon, 13 Oct 2025) EllapsedTime: 105.8 seconds RetCode: 0 Status: OK