Package: scuttle Version: 1.18.0 Command: /home/biocbuild/R/R/bin/R CMD build --keep-empty-dirs --no-resave-data scuttle StartedAt: 2025-10-14 04:36:33 -0000 (Tue, 14 Oct 2025) EndedAt: 2025-10-14 04:40:55 -0000 (Tue, 14 Oct 2025) EllapsedTime: 262.2 seconds RetCode: 0 Status: OK PackageFile: scuttle_1.18.0.tar.gz PackageFileSize: 1.173 MiB