Package: scuttle Version: 1.18.0 Command: /Library/Frameworks/R.framework/Resources/bin/R CMD check --install=check:scuttle.install-out.txt --library=/Library/Frameworks/R.framework/Resources/library --no-vignettes --timings scuttle_1.18.0.tar.gz StartedAt: 2025-10-15 12:02:54 -0400 (Wed, 15 Oct 2025) EndedAt: 2025-10-15 12:09:31 -0400 (Wed, 15 Oct 2025) EllapsedTime: 397.2 seconds RetCode: 0 Status: OK CheckDir: scuttle.Rcheck Warnings: 0