Package: scuttle Version: 1.18.0 Command: /Library/Frameworks/R.framework/Resources/bin/R CMD build --keep-empty-dirs --no-resave-data scuttle StartedAt: 2025-10-14 09:12:15 -0400 (Tue, 14 Oct 2025) EndedAt: 2025-10-14 09:15:40 -0400 (Tue, 14 Oct 2025) EllapsedTime: 205.2 seconds RetCode: 0 Status: OK PackageFile: scuttle_1.18.0.tar.gz PackageFileSize: 1006 KiB