Package: screenCounter Version: 1.8.0 Command: /home/biocbuild/R/R/bin/R CMD INSTALL screenCounter StartedAt: 2025-10-13 20:31:09 -0000 (Mon, 13 Oct 2025) EndedAt: 2025-10-13 20:33:26 -0000 (Mon, 13 Oct 2025) EllapsedTime: 136.4 seconds RetCode: 0 Status: OK