Package: screenCounter Version: 1.8.0 Command: /home/biocbuild/R/R/bin/R CMD build --keep-empty-dirs --no-resave-data screenCounter StartedAt: 2025-10-14 04:31:59 -0000 (Tue, 14 Oct 2025) EndedAt: 2025-10-14 04:34:37 -0000 (Tue, 14 Oct 2025) EllapsedTime: 158.1 seconds RetCode: 0 Status: OK PackageFile: screenCounter_1.8.0.tar.gz PackageFileSize: 318.6 KiB