Package: scran Version: 1.36.0 Command: /Library/Frameworks/R.framework/Resources/bin/R CMD INSTALL scran StartedAt: 2025-10-13 16:39:26 -0400 (Mon, 13 Oct 2025) EndedAt: 2025-10-13 16:41:57 -0400 (Mon, 13 Oct 2025) EllapsedTime: 150.1 seconds RetCode: 0 Status: OK