Package: scran Version: 1.36.0 Command: rm -rf scran.buildbin-libdir && mkdir scran.buildbin-libdir && /Users/biocbuild/BBS/utils/build-universal.sh scran_1.36.0.tar.gz /Library/Frameworks/R.framework/Resources/bin/R scran.buildbin-libdir StartedAt: 2025-10-14 14:44:13 -0400 (Tue, 14 Oct 2025) EndedAt: 2025-10-14 14:47:17 -0400 (Tue, 14 Oct 2025) EllapsedTime: 184.1 seconds RetCode: 0 Status: OK PackageFile: scran_1.36.0.tgz PackageFileSize: 2.308 MiB