Package: scran Version: 1.36.0 Command: /home/biocbuild/R/R/bin/R CMD INSTALL scran StartedAt: 2025-10-13 21:13:14 -0000 (Mon, 13 Oct 2025) EndedAt: 2025-10-13 21:15:07 -0000 (Mon, 13 Oct 2025) EllapsedTime: 112.8 seconds RetCode: 0 Status: OK