Package: scran Version: 1.36.0 Command: /Library/Frameworks/R.framework/Resources/bin/R CMD INSTALL scran StartedAt: 2025-10-13 18:10:33 -0400 (Mon, 13 Oct 2025) EndedAt: 2025-10-13 18:11:46 -0400 (Mon, 13 Oct 2025) EllapsedTime: 73.4 seconds RetCode: 0 Status: OK