Package: scran Version: 1.36.0 Command: rm -rf scran.buildbin-libdir && mkdir scran.buildbin-libdir && /Users/biocbuild/BBS/utils/build-universal.sh scran_1.36.0.tar.gz /Library/Frameworks/R.framework/Resources/bin/R scran.buildbin-libdir StartedAt: 2025-10-15 20:24:59 -0400 (Wed, 15 Oct 2025) EndedAt: 2025-10-15 20:26:21 -0400 (Wed, 15 Oct 2025) EllapsedTime: 82.3 seconds RetCode: 0 Status: OK PackageFile: scran_1.36.0.tgz PackageFileSize: 2.304 MiB