Package: scp Version: 1.18.0 Command: /home/biocbuild/bbs-3.21-bioc/R/bin/R CMD INSTALL scp StartedAt: 2025-10-15 15:34:24 -0400 (Wed, 15 Oct 2025) EndedAt: 2025-10-15 15:34:57 -0400 (Wed, 15 Oct 2025) EllapsedTime: 32.5 seconds RetCode: 0 Status: OK