Package: scp Version: 1.18.0 Command: /home/biocbuild/bbs-3.21-bioc/R/bin/R CMD build --keep-empty-dirs --no-resave-data scp StartedAt: 2025-10-15 19:46:04 -0400 (Wed, 15 Oct 2025) EndedAt: 2025-10-15 19:50:41 -0400 (Wed, 15 Oct 2025) EllapsedTime: 276.1 seconds RetCode: 0 Status: OK PackageFile: scp_1.18.0.tar.gz PackageFileSize: 8.49 MiB