Package: scp Version: 1.18.0 Command: /home/biocbuild/R/R/bin/R CMD INSTALL scp StartedAt: 2025-10-13 20:50:45 -0000 (Mon, 13 Oct 2025) EndedAt: 2025-10-13 20:51:31 -0000 (Mon, 13 Oct 2025) EllapsedTime: 45.7 seconds RetCode: 0 Status: OK