Package: scp Version: 1.18.0 Command: /home/biocbuild/R/R/bin/R CMD build --keep-empty-dirs --no-resave-data scp StartedAt: 2025-10-14 04:30:16 -0000 (Tue, 14 Oct 2025) EndedAt: 2025-10-14 04:37:05 -0000 (Tue, 14 Oct 2025) EllapsedTime: 409.2 seconds RetCode: 0 Status: OK PackageFile: scp_1.18.0.tar.gz PackageFileSize: 8.439 MiB