Package: scoup Version: 1.2.0 Command: /home/biocbuild/R/R/bin/R CMD INSTALL scoup StartedAt: 2025-10-13 20:27:42 -0000 (Mon, 13 Oct 2025) EndedAt: 2025-10-13 20:28:01 -0000 (Mon, 13 Oct 2025) EllapsedTime: 19.0 seconds RetCode: 0 Status: OK