Package: scoup Version: 1.2.0 Command: /home/biocbuild/R/R/bin/R CMD build --keep-empty-dirs --no-resave-data scoup StartedAt: 2025-10-14 04:29:59 -0000 (Tue, 14 Oct 2025) EndedAt: 2025-10-14 04:30:30 -0000 (Tue, 14 Oct 2025) EllapsedTime: 31.0 seconds RetCode: 0 Status: OK PackageFile: scoup_1.2.0.tar.gz PackageFileSize: 402.3 KiB