Package: scoreInvHap Version: 1.30.0 Command: /home/biocbuild/R/R/bin/R CMD INSTALL scoreInvHap StartedAt: 2025-10-13 20:56:09 -0000 (Mon, 13 Oct 2025) EndedAt: 2025-10-13 20:57:08 -0000 (Mon, 13 Oct 2025) EllapsedTime: 59.4 seconds RetCode: 0 Status: OK