Package: scoreInvHap Version: 1.30.0 Command: /home/biocbuild/R/R/bin/R CMD build --keep-empty-dirs --no-resave-data scoreInvHap StartedAt: 2025-10-14 04:29:54 -0000 (Tue, 14 Oct 2025) EndedAt: 2025-10-14 04:31:17 -0000 (Tue, 14 Oct 2025) EllapsedTime: 83.0 seconds RetCode: 0 Status: OK PackageFile: scoreInvHap_1.30.0.tar.gz PackageFileSize: 1.098 MiB