Package: scmeth Version: 1.28.0 Command: /Library/Frameworks/R.framework/Resources/bin/R CMD INSTALL scmeth StartedAt: 2025-10-13 16:13:07 -0400 (Mon, 13 Oct 2025) EndedAt: 2025-10-13 16:14:46 -0400 (Mon, 13 Oct 2025) EllapsedTime: 99.0 seconds RetCode: 0 Status: OK