Package: scmeth Version: 1.28.0 Command: /Library/Frameworks/R.framework/Resources/bin/R CMD build --keep-empty-dirs --no-resave-data scmeth StartedAt: 2025-10-13 22:24:11 -0400 (Mon, 13 Oct 2025) EndedAt: 2025-10-13 22:28:06 -0400 (Mon, 13 Oct 2025) EllapsedTime: 235.2 seconds RetCode: 0 Status: OK PackageFile: scmeth_1.28.0.tar.gz PackageFileSize: 776.6 KiB