Package: scmeth Version: 1.28.0 Command: /home/biocbuild/R/R/bin/R CMD INSTALL scmeth StartedAt: 2025-10-13 20:56:36 -0000 (Mon, 13 Oct 2025) EndedAt: 2025-10-13 20:57:43 -0000 (Mon, 13 Oct 2025) EllapsedTime: 67.2 seconds RetCode: 0 Status: OK