Package: scmeth Version: 1.28.0 Command: /home/biocbuild/R/R/bin/R CMD build --keep-empty-dirs --no-resave-data scmeth StartedAt: 2025-10-14 04:28:40 -0000 (Tue, 14 Oct 2025) EndedAt: 2025-10-14 04:30:49 -0000 (Tue, 14 Oct 2025) EllapsedTime: 129.1 seconds RetCode: 0 Status: OK PackageFile: scmeth_1.28.0.tar.gz PackageFileSize: 816.1 KiB