Package: scmap Version: 1.30.0 Command: /home/biocbuild/R/R/bin/R CMD build --keep-empty-dirs --no-resave-data scmap StartedAt: 2025-10-14 04:28:03 -0000 (Tue, 14 Oct 2025) EndedAt: 2025-10-14 04:29:26 -0000 (Tue, 14 Oct 2025) EllapsedTime: 82.0 seconds RetCode: 0 Status: OK PackageFile: scmap_1.30.0.tar.gz PackageFileSize: 2.238 MiB