Package: scmap Version: 1.30.0 Maintainer: Vladimir Kiselev MaintainerEmail: vladimir.yu.kiselev at gmail.com git_url: https://git.bioconductor.org/packages/scmap git_branch: RELEASE_3_21 git_last_commit: d098bf3 git_last_commit_date: 2025-04-15 11:12:07 -0400 (Tue, 15 Apr 2025)