Package: scifer Version: 1.10.0 Command: rm -rf scifer.buildbin-libdir && mkdir scifer.buildbin-libdir && /Users/biocbuild/BBS/utils/build-universal.sh scifer_1.10.0.tar.gz /Library/Frameworks/R.framework/Resources/bin/R scifer.buildbin-libdir StartedAt: 2025-10-14 14:42:56 -0400 (Tue, 14 Oct 2025) EndedAt: 2025-10-14 14:43:45 -0400 (Tue, 14 Oct 2025) EllapsedTime: 49.1 seconds RetCode: 0 Status: OK PackageFile: scifer_1.10.0.tgz PackageFileSize: 1.563 MiB