Package: scifer Version: 1.10.0 Command: /home/biocbuild/R/R/bin/R CMD INSTALL scifer StartedAt: 2025-10-13 21:07:43 -0000 (Mon, 13 Oct 2025) EndedAt: 2025-10-13 21:08:05 -0000 (Mon, 13 Oct 2025) EllapsedTime: 22.0 seconds RetCode: 0 Status: OK