Package: scider Version: 1.6.0 Command: /home/biocbuild/R/R/bin/R CMD build --keep-empty-dirs --no-resave-data scider StartedAt: 2025-10-14 04:27:56 -0000 (Tue, 14 Oct 2025) EndedAt: 2025-10-14 04:29:41 -0000 (Tue, 14 Oct 2025) EllapsedTime: 104.1 seconds RetCode: 0 Status: OK PackageFile: scider_1.6.0.tar.gz PackageFileSize: 2.205 MiB