Package: schex Version: 1.22.0 Command: /Library/Frameworks/R.framework/Resources/bin/R CMD INSTALL schex StartedAt: 2025-10-13 16:28:41 -0400 (Mon, 13 Oct 2025) EndedAt: 2025-10-13 16:29:12 -0400 (Mon, 13 Oct 2025) EllapsedTime: 30.6 seconds RetCode: 0 Status: OK