Package: schex Version: 1.22.0 Command: /Library/Frameworks/R.framework/Resources/bin/R CMD build --keep-empty-dirs --no-resave-data schex StartedAt: 2025-10-14 08:44:56 -0400 (Tue, 14 Oct 2025) EndedAt: 2025-10-14 08:47:29 -0400 (Tue, 14 Oct 2025) EllapsedTime: 153.0 seconds RetCode: 0 Status: OK PackageFile: schex_1.22.0.tar.gz PackageFileSize: 3.693 MiB