Package: schex Version: 1.22.0 Command: rm -rf schex.buildbin-libdir && mkdir schex.buildbin-libdir && /Users/biocbuild/BBS/utils/build-universal.sh schex_1.22.0.tar.gz /Library/Frameworks/R.framework/Resources/bin/R schex.buildbin-libdir StartedAt: 2025-10-15 20:22:14 -0400 (Wed, 15 Oct 2025) EndedAt: 2025-10-15 20:22:49 -0400 (Wed, 15 Oct 2025) EllapsedTime: 35.1 seconds RetCode: 0 Status: OK PackageFile: schex_1.22.0.tgz PackageFileSize: 2.401 MiB