Package: scds Version: 1.24.0 Command: /home/biocbuild/R/R/bin/R CMD build --keep-empty-dirs --no-resave-data scds StartedAt: 2025-10-14 04:24:58 -0000 (Tue, 14 Oct 2025) EndedAt: 2025-10-14 04:26:39 -0000 (Tue, 14 Oct 2025) EllapsedTime: 101.1 seconds RetCode: 0 Status: OK PackageFile: scds_1.24.0.tar.gz PackageFileSize: 1.359 MiB