Package: sccomp Version: 2.0.0 Command: /home/biocbuild/R/R/bin/R CMD INSTALL sccomp StartedAt: 2025-10-13 20:32:31 -0000 (Mon, 13 Oct 2025) EndedAt: 2025-10-13 20:33:18 -0000 (Mon, 13 Oct 2025) EllapsedTime: 47.2 seconds RetCode: 0 Status: OK