Package: sccomp Version: 2.0.0 Command: /home/biocbuild/R/R/bin/R CMD build --keep-empty-dirs --no-resave-data sccomp StartedAt: 2025-10-14 04:22:29 -0000 (Tue, 14 Oct 2025) EndedAt: 2025-10-14 04:23:47 -0000 (Tue, 14 Oct 2025) EllapsedTime: 78.1 seconds RetCode: 0 Status: OK PackageFile: sccomp_2.0.0.tar.gz PackageFileSize: 3.41 MiB