Package: scatterHatch Version: 1.14.0 Command: /home/biocbuild/R/R/bin/R CMD INSTALL scatterHatch StartedAt: 2025-10-13 20:18:41 -0000 (Mon, 13 Oct 2025) EndedAt: 2025-10-13 20:18:55 -0000 (Mon, 13 Oct 2025) EllapsedTime: 14.7 seconds RetCode: 0 Status: OK