Package: scanMiRApp Version: 1.14.0 Command: /Library/Frameworks/R.framework/Resources/bin/R CMD INSTALL scanMiRApp StartedAt: 2025-10-13 16:37:18 -0400 (Mon, 13 Oct 2025) EndedAt: 2025-10-13 16:38:55 -0400 (Mon, 13 Oct 2025) EllapsedTime: 97.1 seconds RetCode: 0 Status: OK