Package: scanMiRApp Version: 1.14.0 Command: /home/biocbuild/R/R/bin/R CMD INSTALL scanMiRApp StartedAt: 2025-10-13 21:11:17 -0000 (Mon, 13 Oct 2025) EndedAt: 2025-10-13 21:12:26 -0000 (Mon, 13 Oct 2025) EllapsedTime: 69.5 seconds RetCode: 0 Status: OK