Package: scanMiRApp Version: 1.14.0 Command: /Library/Frameworks/R.framework/Resources/bin/R CMD build --keep-empty-dirs --no-resave-data scanMiRApp StartedAt: 2025-10-14 08:29:19 -0400 (Tue, 14 Oct 2025) EndedAt: 2025-10-14 08:31:12 -0400 (Tue, 14 Oct 2025) EllapsedTime: 113.7 seconds RetCode: 0 Status: OK PackageFile: scanMiRApp_1.14.0.tar.gz PackageFileSize: 904.4 KiB