Package: scanMiR Version: 1.14.0 Command: /home/biocbuild/R/R/bin/R CMD INSTALL scanMiR StartedAt: 2025-10-13 21:10:53 -0000 (Mon, 13 Oct 2025) EndedAt: 2025-10-13 21:11:16 -0000 (Mon, 13 Oct 2025) EllapsedTime: 23.2 seconds RetCode: 0 Status: OK