Package: scanMiR Version: 1.14.0 Command: /home/biocbuild/R/R/bin/R CMD build --keep-empty-dirs --no-resave-data scanMiR StartedAt: 2025-10-14 04:20:02 -0000 (Tue, 14 Oct 2025) EndedAt: 2025-10-14 04:20:40 -0000 (Tue, 14 Oct 2025) EllapsedTime: 38.0 seconds RetCode: 0 Status: OK PackageFile: scanMiR_1.14.0.tar.gz PackageFileSize: 1.091 MiB