Package: scanMiR Version: 1.14.0 Command: /Library/Frameworks/R.framework/Resources/bin/R CMD INSTALL scanMiR StartedAt: 2025-10-13 18:06:14 -0400 (Mon, 13 Oct 2025) EndedAt: 2025-10-13 18:06:33 -0400 (Mon, 13 Oct 2025) EllapsedTime: 18.8 seconds RetCode: 0 Status: OK