Package: scanMiR Version: 1.14.0 Command: /Library/Frameworks/R.framework/Resources/bin/R CMD build --keep-empty-dirs --no-resave-data scanMiR StartedAt: 2025-10-14 08:28:35 -0400 (Tue, 14 Oct 2025) EndedAt: 2025-10-14 08:29:19 -0400 (Tue, 14 Oct 2025) EllapsedTime: 44.2 seconds RetCode: 0 Status: OK PackageFile: scanMiR_1.14.0.tar.gz PackageFileSize: 1.062 MiB