Package: scTreeViz Version: 1.14.1 Command: /Library/Frameworks/R.framework/Resources/bin/R CMD INSTALL scTreeViz StartedAt: 2025-10-13 16:43:48 -0400 (Mon, 13 Oct 2025) EndedAt: 2025-10-13 16:46:16 -0400 (Mon, 13 Oct 2025) EllapsedTime: 148.0 seconds RetCode: 0 Status: OK