Package: scTreeViz Version: 1.14.1 Command: /home/biocbuild/R/R/bin/R CMD INSTALL scTreeViz StartedAt: 2025-10-13 21:16:06 -0000 (Mon, 13 Oct 2025) EndedAt: 2025-10-13 21:17:44 -0000 (Mon, 13 Oct 2025) EllapsedTime: 98.4 seconds RetCode: 0 Status: OK