Package: scTreeViz Version: 1.14.1 Command: /home/biocbuild/R/R/bin/R CMD build --keep-empty-dirs --no-resave-data scTreeViz StartedAt: 2025-10-14 04:35:47 -0000 (Tue, 14 Oct 2025) EndedAt: 2025-10-14 04:40:15 -0000 (Tue, 14 Oct 2025) EllapsedTime: 268.2 seconds RetCode: 0 Status: OK PackageFile: scTreeViz_1.14.1.tar.gz PackageFileSize: 2.322 MiB