Package: scTreeViz Version: 1.14.1 Command: /Library/Frameworks/R.framework/Resources/bin/R CMD build --keep-empty-dirs --no-resave-data scTreeViz StartedAt: 2025-10-14 09:10:44 -0400 (Tue, 14 Oct 2025) EndedAt: 2025-10-14 09:14:12 -0400 (Tue, 14 Oct 2025) EllapsedTime: 208.0 seconds RetCode: 0 Status: OK PackageFile: scTreeViz_1.14.1.tar.gz PackageFileSize: 2.299 MiB