Package: scTreeViz Version: 1.14.1 Command: rm -rf scTreeViz.buildbin-libdir && mkdir scTreeViz.buildbin-libdir && /Users/biocbuild/BBS/utils/build-universal.sh scTreeViz_1.14.1.tar.gz /Library/Frameworks/R.framework/Resources/bin/R scTreeViz.buildbin-libdir StartedAt: 2025-10-15 20:27:22 -0400 (Wed, 15 Oct 2025) EndedAt: 2025-10-15 20:28:49 -0400 (Wed, 15 Oct 2025) EllapsedTime: 87.7 seconds RetCode: 0 Status: OK PackageFile: scTreeViz_1.14.1.tgz PackageFileSize: 2.627 MiB