Package: scTensor Version: 2.18.2 Command: /home/biocbuild/bbs-3.21-bioc/R/bin/R CMD INSTALL scTensor StartedAt: 2025-10-15 15:48:29 -0400 (Wed, 15 Oct 2025) EndedAt: 2025-10-15 15:49:21 -0400 (Wed, 15 Oct 2025) EllapsedTime: 52.3 seconds RetCode: 0 Status: OK